BEGIN:VCALENDAR
VERSION:2.0
PRODID:-//Hermandad del Nazareno | Huelva - ECPv6.15.20//NONSGML v1.0//EN
CALSCALE:GREGORIAN
METHOD:PUBLISH
X-WR-CALNAME:Hermandad del Nazareno | Huelva
X-ORIGINAL-URL:https://hermandadnazarenohuelva.com
X-WR-CALDESC:Eventos para Hermandad del Nazareno | Huelva
REFRESH-INTERVAL;VALUE=DURATION:PT1H
X-Robots-Tag:noindex
X-PUBLISHED-TTL:PT1H
BEGIN:VTIMEZONE
TZID:Europe/Madrid
BEGIN:DAYLIGHT
TZOFFSETFROM:+0100
TZOFFSETTO:+0200
TZNAME:CEST
DTSTART:20240331T010000
END:DAYLIGHT
BEGIN:STANDARD
TZOFFSETFROM:+0200
TZOFFSETTO:+0100
TZNAME:CET
DTSTART:20241027T010000
END:STANDARD
BEGIN:DAYLIGHT
TZOFFSETFROM:+0100
TZOFFSETTO:+0200
TZNAME:CEST
DTSTART:20250330T010000
END:DAYLIGHT
BEGIN:STANDARD
TZOFFSETFROM:+0200
TZOFFSETTO:+0100
TZNAME:CET
DTSTART:20251026T010000
END:STANDARD
BEGIN:DAYLIGHT
TZOFFSETFROM:+0100
TZOFFSETTO:+0200
TZNAME:CEST
DTSTART:20260329T010000
END:DAYLIGHT
BEGIN:STANDARD
TZOFFSETFROM:+0200
TZOFFSETTO:+0100
TZNAME:CET
DTSTART:20261025T010000
END:STANDARD
BEGIN:DAYLIGHT
TZOFFSETFROM:+0100
TZOFFSETTO:+0200
TZNAME:CEST
DTSTART:20270328T010000
END:DAYLIGHT
BEGIN:STANDARD
TZOFFSETFROM:+0200
TZOFFSETTO:+0100
TZNAME:CET
DTSTART:20271031T010000
END:STANDARD
END:VTIMEZONE
BEGIN:VEVENT
DTSTART;VALUE=DATE:20260424
DTEND;VALUE=DATE:20260425
DTSTAMP:20260425T174830
CREATED:20250218T120117Z
LAST-MODIFIED:20251028T221519Z
UID:9451-1776988800-1777075199@hermandadnazarenohuelva.com
SUMMARY:Ejercicio de las Cinco Llagas
DESCRIPTION:Como cada viernes del año celebraremos tras la misa de tarde el rezo de los Viernes del Nazareno con el Ejercicio de las Cinco Llagas
URL:https://hermandadnazarenohuelva.com/calendario/ejercicio-de-las-cinco-llagas-20/
LOCATION:Parroquia de la Purisima Concepcion
ATTACH;FMTTYPE=image/jpeg:https://hermandadnazarenohuelva.com/wp-content/uploads/2024/10/Evento-Nazareno.jpg
END:VEVENT
BEGIN:VEVENT
DTSTART;VALUE=DATE:20260417
DTEND;VALUE=DATE:20260418
DTSTAMP:20260425T174830
CREATED:20250218T120039Z
LAST-MODIFIED:20251028T221508Z
UID:9449-1776384000-1776470399@hermandadnazarenohuelva.com
SUMMARY:Ejercicio de las Cinco Llagas
DESCRIPTION:Como cada viernes del año celebraremos tras la misa de tarde el rezo de los Viernes del Nazareno con el Ejercicio de las Cinco Llagas
URL:https://hermandadnazarenohuelva.com/calendario/ejercicio-de-las-cinco-llagas-19/
LOCATION:Parroquia de la Purisima Concepcion
ATTACH;FMTTYPE=image/jpeg:https://hermandadnazarenohuelva.com/wp-content/uploads/2024/10/Evento-Nazareno.jpg
END:VEVENT
BEGIN:VEVENT
DTSTART;VALUE=DATE:20260410
DTEND;VALUE=DATE:20260411
DTSTAMP:20260425T174830
CREATED:20250218T120021Z
LAST-MODIFIED:20251028T221500Z
UID:9447-1775779200-1775865599@hermandadnazarenohuelva.com
SUMMARY:Ejercicio de las Cinco Llagas
DESCRIPTION:Como cada viernes del año celebraremos tras la misa de tarde el rezo de los Viernes del Nazareno con el Ejercicio de las Cinco Llagas
URL:https://hermandadnazarenohuelva.com/calendario/ejercicio-de-las-cinco-llagas-18/
LOCATION:Parroquia de la Purisima Concepcion
ATTACH;FMTTYPE=image/jpeg:https://hermandadnazarenohuelva.com/wp-content/uploads/2024/10/Evento-Nazareno.jpg
END:VEVENT
BEGIN:VEVENT
DTSTART;VALUE=DATE:20260403
DTEND;VALUE=DATE:20260404
DTSTAMP:20260425T174830
CREATED:20250218T115945Z
LAST-MODIFIED:20251028T221451Z
UID:9445-1775174400-1775260799@hermandadnazarenohuelva.com
SUMMARY:Ejercicio de las Cinco Llagas
DESCRIPTION:Como cada viernes del año celebraremos tras la misa de tarde el rezo de los Viernes del Nazareno con el Ejercicio de las Cinco Llagas
URL:https://hermandadnazarenohuelva.com/calendario/ejercicio-de-las-cinco-llagas-17/
LOCATION:Parroquia de la Purisima Concepcion
ATTACH;FMTTYPE=image/jpeg:https://hermandadnazarenohuelva.com/wp-content/uploads/2024/10/Evento-Nazareno.jpg
END:VEVENT
BEGIN:VEVENT
DTSTART;VALUE=DATE:20260327
DTEND;VALUE=DATE:20260328
DTSTAMP:20260425T174830
CREATED:20250218T115923Z
LAST-MODIFIED:20251028T221438Z
UID:9443-1774569600-1774655999@hermandadnazarenohuelva.com
SUMMARY:Ejercicio de las Cinco Llagas
DESCRIPTION:Como cada viernes del año celebraremos tras la misa de tarde el rezo de los Viernes del Nazareno con el Ejercicio de las Cinco Llagas
URL:https://hermandadnazarenohuelva.com/calendario/ejercicio-de-las-cinco-llagas-16/
LOCATION:Parroquia de la Purisima Concepcion
ATTACH;FMTTYPE=image/jpeg:https://hermandadnazarenohuelva.com/wp-content/uploads/2024/10/Evento-Nazareno.jpg
END:VEVENT
BEGIN:VEVENT
DTSTART;VALUE=DATE:20260320
DTEND;VALUE=DATE:20260321
DTSTAMP:20260425T174830
CREATED:20250218T115902Z
LAST-MODIFIED:20251028T221431Z
UID:9441-1773964800-1774051199@hermandadnazarenohuelva.com
SUMMARY:Ejercicio de las Cinco Llagas
DESCRIPTION:Como cada viernes del año celebraremos tras la misa de tarde el rezo de los Viernes del Nazareno con el Ejercicio de las Cinco Llagas
URL:https://hermandadnazarenohuelva.com/calendario/ejercicio-de-las-cinco-llagas-15/
LOCATION:Parroquia de la Purisima Concepcion
ATTACH;FMTTYPE=image/jpeg:https://hermandadnazarenohuelva.com/wp-content/uploads/2024/10/Evento-Nazareno.jpg
END:VEVENT
BEGIN:VEVENT
DTSTART;VALUE=DATE:20260313
DTEND;VALUE=DATE:20260314
DTSTAMP:20260425T174830
CREATED:20250218T115835Z
LAST-MODIFIED:20251028T221422Z
UID:9439-1773360000-1773446399@hermandadnazarenohuelva.com
SUMMARY:Ejercicio de las Cinco Llagas
DESCRIPTION:Como cada viernes del año celebraremos tras la misa de tarde el rezo de los Viernes del Nazareno con el Ejercicio de las Cinco Llagas
URL:https://hermandadnazarenohuelva.com/calendario/ejercicio-de-las-cinco-llagas-14/
LOCATION:Parroquia de la Purisima Concepcion
ATTACH;FMTTYPE=image/jpeg:https://hermandadnazarenohuelva.com/wp-content/uploads/2024/10/Evento-Nazareno.jpg
END:VEVENT
BEGIN:VEVENT
DTSTART;VALUE=DATE:20260306
DTEND;VALUE=DATE:20260307
DTSTAMP:20260425T174830
CREATED:20250218T115740Z
LAST-MODIFIED:20251028T221412Z
UID:9437-1772755200-1772841599@hermandadnazarenohuelva.com
SUMMARY:Ejercicio de las Cinco Llagas
DESCRIPTION:Como cada viernes del año celebraremos tras la misa de tarde el rezo de los Viernes del Nazareno con el Ejercicio de las Cinco Llagas
URL:https://hermandadnazarenohuelva.com/calendario/ejercicio-de-las-cinco-llagas-13/
LOCATION:Parroquia de la Purisima Concepcion
ATTACH;FMTTYPE=image/jpeg:https://hermandadnazarenohuelva.com/wp-content/uploads/2024/10/Evento-Nazareno.jpg
END:VEVENT
BEGIN:VEVENT
DTSTART;VALUE=DATE:20260227
DTEND;VALUE=DATE:20260228
DTSTAMP:20260425T174830
CREATED:20250218T115349Z
LAST-MODIFIED:20251028T221344Z
UID:9434-1772150400-1772236799@hermandadnazarenohuelva.com
SUMMARY:Ejercicio de las Cinco Llagas
DESCRIPTION:Como cada viernes del año celebraremos tras la misa de tarde el rezo de los Viernes del Nazareno con el Ejercicio de las Cinco Llagas
URL:https://hermandadnazarenohuelva.com/calendario/ejercicio-de-las-cinco-llagas-12/
LOCATION:Parroquia de la Purisima Concepcion
ATTACH;FMTTYPE=image/jpeg:https://hermandadnazarenohuelva.com/wp-content/uploads/2024/10/Evento-Nazareno.jpg
END:VEVENT
BEGIN:VEVENT
DTSTART;VALUE=DATE:20260220
DTEND;VALUE=DATE:20260221
DTSTAMP:20260425T174830
CREATED:20241007T171526Z
LAST-MODIFIED:20251028T221330Z
UID:7855-1771545600-1771631999@hermandadnazarenohuelva.com
SUMMARY:Ejercicio de las Cinco Llagas
DESCRIPTION:Como cada viernes del año celebraremos tras la misa de tarde el rezo de los Viernes del Nazareno con el Ejercicio de las Cinco Llagas
URL:https://hermandadnazarenohuelva.com/calendario/ejercicio-de-las-cinco-llagas-11/
LOCATION:Parroquia de la Purisima Concepcion
ATTACH;FMTTYPE=image/jpeg:https://hermandadnazarenohuelva.com/wp-content/uploads/2024/10/Evento-Nazareno.jpg
END:VEVENT
BEGIN:VEVENT
DTSTART;VALUE=DATE:20260213
DTEND;VALUE=DATE:20260214
DTSTAMP:20260425T174830
CREATED:20241007T171459Z
LAST-MODIFIED:20251028T221319Z
UID:7853-1770940800-1771027199@hermandadnazarenohuelva.com
SUMMARY:Ejercicio de las Cinco Llagas
DESCRIPTION:Como cada viernes del año celebraremos tras la misa de tarde el rezo de los Viernes del Nazareno con el Ejercicio de las Cinco Llagas
URL:https://hermandadnazarenohuelva.com/calendario/ejercicio-de-las-cinco-llagas-10/
LOCATION:Parroquia de la Purisima Concepcion
ATTACH;FMTTYPE=image/jpeg:https://hermandadnazarenohuelva.com/wp-content/uploads/2024/10/Evento-Nazareno.jpg
END:VEVENT
BEGIN:VEVENT
DTSTART;VALUE=DATE:20260206
DTEND;VALUE=DATE:20260207
DTSTAMP:20260425T174830
CREATED:20241007T171250Z
LAST-MODIFIED:20251028T221308Z
UID:7851-1770336000-1770422399@hermandadnazarenohuelva.com
SUMMARY:Ejercicio de las Cinco Llagas
DESCRIPTION:Como cada viernes del año celebraremos tras la misa de tarde el rezo de los Viernes del Nazareno con el Ejercicio de las Cinco Llagas
URL:https://hermandadnazarenohuelva.com/calendario/ejercicio-de-las-cinco-llagas-9/
LOCATION:Parroquia de la Purisima Concepcion
ATTACH;FMTTYPE=image/jpeg:https://hermandadnazarenohuelva.com/wp-content/uploads/2024/10/Evento-Nazareno.jpg
END:VEVENT
BEGIN:VEVENT
DTSTART;VALUE=DATE:20260130
DTEND;VALUE=DATE:20260131
DTSTAMP:20260425T174830
CREATED:20241006T171139Z
LAST-MODIFIED:20251028T221234Z
UID:7849-1769731200-1769817599@hermandadnazarenohuelva.com
SUMMARY:Ejercicio de las Cinco Llagas
DESCRIPTION:Como cada viernes del año celebraremos tras la misa de tarde el rezo de los Viernes del Nazareno con el Ejercicio de las Cinco Llagas
URL:https://hermandadnazarenohuelva.com/calendario/ejercicio-de-las-cinco-llagas-8/
LOCATION:Parroquia de la Purisima Concepcion
ATTACH;FMTTYPE=image/jpeg:https://hermandadnazarenohuelva.com/wp-content/uploads/2024/10/Evento-Nazareno.jpg
END:VEVENT
BEGIN:VEVENT
DTSTART;VALUE=DATE:20260123
DTEND;VALUE=DATE:20260124
DTSTAMP:20260425T174830
CREATED:20241007T171114Z
LAST-MODIFIED:20251028T221220Z
UID:7847-1769126400-1769212799@hermandadnazarenohuelva.com
SUMMARY:Ejercicio de las Cinco Llagas
DESCRIPTION:Como cada viernes del año celebraremos tras la misa de tarde el rezo de los Viernes del Nazareno con el Ejercicio de las Cinco Llagas
URL:https://hermandadnazarenohuelva.com/calendario/ejercicio-de-las-cinco-llagas-7/
LOCATION:Parroquia de la Purisima Concepcion
ATTACH;FMTTYPE=image/jpeg:https://hermandadnazarenohuelva.com/wp-content/uploads/2024/10/Evento-Nazareno.jpg
END:VEVENT
BEGIN:VEVENT
DTSTART;VALUE=DATE:20260116
DTEND;VALUE=DATE:20260117
DTSTAMP:20260425T174830
CREATED:20241007T171033Z
LAST-MODIFIED:20251028T221210Z
UID:7845-1768521600-1768607999@hermandadnazarenohuelva.com
SUMMARY:Ejercicio de las Cinco Llagas
DESCRIPTION:Como cada viernes del año celebraremos tras la misa de tarde el rezo de los Viernes del Nazareno con el Ejercicio de las Cinco Llagas
URL:https://hermandadnazarenohuelva.com/calendario/ejercicio-de-las-cinco-llagas-6/
LOCATION:Parroquia de la Purisima Concepcion
ATTACH;FMTTYPE=image/jpeg:https://hermandadnazarenohuelva.com/wp-content/uploads/2024/10/Evento-Nazareno.jpg
END:VEVENT
BEGIN:VEVENT
DTSTART;VALUE=DATE:20260109
DTEND;VALUE=DATE:20260110
DTSTAMP:20260425T174830
CREATED:20241007T170959Z
LAST-MODIFIED:20251028T221159Z
UID:7843-1767916800-1768003199@hermandadnazarenohuelva.com
SUMMARY:Ejercicio de las Cinco Llagas
DESCRIPTION:Como cada viernes del año celebraremos tras la misa de tarde el rezo de los Viernes del Nazareno con el Ejercicio de las Cinco Llagas
URL:https://hermandadnazarenohuelva.com/calendario/ejercicio-de-las-cinco-llagas-5/
LOCATION:Parroquia de la Purisima Concepcion
ATTACH;FMTTYPE=image/jpeg:https://hermandadnazarenohuelva.com/wp-content/uploads/2024/10/Evento-Nazareno.jpg
END:VEVENT
BEGIN:VEVENT
DTSTART;VALUE=DATE:20260102
DTEND;VALUE=DATE:20260103
DTSTAMP:20260425T174830
CREATED:20241007T163500Z
LAST-MODIFIED:20251028T221150Z
UID:7817-1767312000-1767398399@hermandadnazarenohuelva.com
SUMMARY:Ejercicio de las Cinco Llagas
DESCRIPTION:Como cada viernes del año celebraremos tras la misa de tarde el rezo de los Viernes del Nazareno con el Ejercicio de las Cinco Llagas
URL:https://hermandadnazarenohuelva.com/calendario/ejercicio-de-las-cinco-llagas-4/
LOCATION:Parroquia de la Purisima Concepcion
ATTACH;FMTTYPE=image/jpeg:https://hermandadnazarenohuelva.com/wp-content/uploads/2024/10/Evento-Nazareno.jpg
END:VEVENT
BEGIN:VEVENT
DTSTART;VALUE=DATE:20251226
DTEND;VALUE=DATE:20251227
DTSTAMP:20260425T174830
CREATED:20241007T163207Z
LAST-MODIFIED:20251028T221058Z
UID:7815-1766707200-1766793599@hermandadnazarenohuelva.com
SUMMARY:Ejercicio de las Cinco Llagas
DESCRIPTION:Como cada viernes del año celebraremos tras la misa de tarde el rezo de los Viernes del Nazareno con el Ejercicio de las Cinco Llagas
URL:https://hermandadnazarenohuelva.com/calendario/ejercicio-de-las-cinco-llagas-3/
LOCATION:Parroquia de la Purisima Concepcion
ATTACH;FMTTYPE=image/jpeg:https://hermandadnazarenohuelva.com/wp-content/uploads/2024/10/Evento-Nazareno.jpg
END:VEVENT
BEGIN:VEVENT
DTSTART;VALUE=DATE:20251219
DTEND;VALUE=DATE:20251220
DTSTAMP:20260425T174830
CREATED:20241007T163125Z
LAST-MODIFIED:20251028T221048Z
UID:7813-1766102400-1766188799@hermandadnazarenohuelva.com
SUMMARY:Ejercicio de las Cinco Llagas
DESCRIPTION:Como cada viernes del año celebraremos tras la misa de tarde el rezo de los Viernes del Nazareno con el Ejercicio de las Cinco Llagas
URL:https://hermandadnazarenohuelva.com/calendario/ejercicio-de-las-cinco-llagas-2/
LOCATION:Parroquia de la Purisima Concepcion
ATTACH;FMTTYPE=image/jpeg:https://hermandadnazarenohuelva.com/wp-content/uploads/2024/10/Evento-Nazareno.jpg
END:VEVENT
BEGIN:VEVENT
DTSTART;VALUE=DATE:20251212
DTEND;VALUE=DATE:20251213
DTSTAMP:20260425T174830
CREATED:20241007T163026Z
LAST-MODIFIED:20251028T221037Z
UID:7810-1765497600-1765583999@hermandadnazarenohuelva.com
SUMMARY:Ejercicio de las Cinco Llagas
DESCRIPTION:Como cada viernes del año celebraremos tras la misa de tarde el rezo de los Viernes del Nazareno con el Ejercicio de las Cinco Llagas
URL:https://hermandadnazarenohuelva.com/calendario/ejercicio-de-las-cinco-llagas/
LOCATION:Parroquia de la Purisima Concepcion
ATTACH;FMTTYPE=image/jpeg:https://hermandadnazarenohuelva.com/wp-content/uploads/2024/10/Evento-Nazareno.jpg
END:VEVENT
BEGIN:VEVENT
DTSTART;VALUE=DATE:20251205
DTEND;VALUE=DATE:20251206
DTSTAMP:20260425T174830
CREATED:20241007T160744Z
LAST-MODIFIED:20251028T221026Z
UID:7803-1764892800-1764979199@hermandadnazarenohuelva.com
SUMMARY:Ejercicio de las Cinco Llagas
DESCRIPTION:Como cada viernes del año celebraremos tras la misa de tarde el rezo de los Viernes del Nazareno con el Ejercicio de las Cinco Llagas
URL:https://hermandadnazarenohuelva.com/calendario/rezo-de-las-cinco-llagas/
LOCATION:Parroquia de la Purisima Concepcion
ATTACH;FMTTYPE=image/jpeg:https://hermandadnazarenohuelva.com/wp-content/uploads/2024/10/Evento-Nazareno.jpg
END:VEVENT
BEGIN:VEVENT
DTSTART;VALUE=DATE:20251128
DTEND;VALUE=DATE:20251129
DTSTAMP:20260425T174830
CREATED:20250218T120321Z
LAST-MODIFIED:20251028T221008Z
UID:9458-1764288000-1764374399@hermandadnazarenohuelva.com
SUMMARY:Ejercicio de las Cinco Llagas
DESCRIPTION:Como cada viernes del año celebraremos tras la misa de tarde el rezo de los Viernes del Nazareno con el Ejercicio de las Cinco Llagas
URL:https://hermandadnazarenohuelva.com/calendario/ejercicio-de-las-cinco-llagas-25/
LOCATION:Parroquia de la Purisima Concepcion
ATTACH;FMTTYPE=image/jpeg:https://hermandadnazarenohuelva.com/wp-content/uploads/2024/10/Evento-Nazareno.jpg
END:VEVENT
BEGIN:VEVENT
DTSTART;VALUE=DATE:20251121
DTEND;VALUE=DATE:20251122
DTSTAMP:20260425T174830
CREATED:20250218T120354Z
LAST-MODIFIED:20251028T220954Z
UID:9463-1763683200-1763769599@hermandadnazarenohuelva.com
SUMMARY:Ejercicio de las Cinco Llagas
DESCRIPTION:Como cada viernes del año celebraremos tras la misa de tarde el rezo de los Viernes del Nazareno con el Ejercicio de las Cinco Llagas
URL:https://hermandadnazarenohuelva.com/calendario/ejercicio-de-las-cinco-llagas-26/
LOCATION:Parroquia de la Purisima Concepcion
ATTACH;FMTTYPE=image/jpeg:https://hermandadnazarenohuelva.com/wp-content/uploads/2024/10/Evento-Nazareno.jpg
END:VEVENT
BEGIN:VEVENT
DTSTART;VALUE=DATE:20251114
DTEND;VALUE=DATE:20251115
DTSTAMP:20260425T174830
CREATED:20250218T120401Z
LAST-MODIFIED:20251028T220944Z
UID:9464-1763078400-1763164799@hermandadnazarenohuelva.com
SUMMARY:Ejercicio de las Cinco Llagas
DESCRIPTION:Como cada viernes del año celebraremos tras la misa de tarde el rezo de los Viernes del Nazareno con el Ejercicio de las Cinco Llagas
URL:https://hermandadnazarenohuelva.com/calendario/ejercicio-de-las-cinco-llagas-27/
LOCATION:Parroquia de la Purisima Concepcion
ATTACH;FMTTYPE=image/jpeg:https://hermandadnazarenohuelva.com/wp-content/uploads/2024/10/Evento-Nazareno.jpg
END:VEVENT
BEGIN:VEVENT
DTSTART;TZID=Europe/Madrid:20251109T120000
DTEND;TZID=Europe/Madrid:20251109T130000
DTSTAMP:20260425T174830
CREATED:20241007T155130Z
LAST-MODIFIED:20251028T220432Z
UID:7790-1762689600-1762693200@hermandadnazarenohuelva.com
SUMMARY:Función a María Santísima de la Amargura
DESCRIPTION:El día 9 de noviembre celebraremos Función Solemne en honor a María Santísima de la Amargura en la Parroquia de la Purísima Concepción.
URL:https://hermandadnazarenohuelva.com/calendario/funcion-a-maria-santisima-de-la-amargura/
LOCATION:Parroquia de la Purisima Concepcion
CATEGORIES:Cultos
ATTACH;FMTTYPE=image/jpeg:https://hermandadnazarenohuelva.com/wp-content/uploads/2024/10/Evento-Amargura-1.jpg
END:VEVENT
BEGIN:VEVENT
DTSTART;VALUE=DATE:20251107
DTEND;VALUE=DATE:20251108
DTSTAMP:20260425T174830
CREATED:20250218T120406Z
LAST-MODIFIED:20251028T220934Z
UID:9465-1762473600-1762559999@hermandadnazarenohuelva.com
SUMMARY:Ejercicio de las Cinco Llagas
DESCRIPTION:Como cada viernes del año celebraremos tras la misa de tarde el rezo de los Viernes del Nazareno con el Ejercicio de las Cinco Llagas
URL:https://hermandadnazarenohuelva.com/calendario/ejercicio-de-las-cinco-llagas-28/
LOCATION:Parroquia de la Purisima Concepcion
ATTACH;FMTTYPE=image/jpeg:https://hermandadnazarenohuelva.com/wp-content/uploads/2024/10/Evento-Nazareno.jpg
END:VEVENT
BEGIN:VEVENT
DTSTART;TZID=Europe/Madrid:20251106T190000
DTEND;TZID=Europe/Madrid:20251108T190000
DTSTAMP:20260425T174830
CREATED:20241007T151931Z
LAST-MODIFIED:20251028T220524Z
UID:7748-1762455600-1762628400@hermandadnazarenohuelva.com
SUMMARY:Triduo a María Santísima de la Amargura
DESCRIPTION:Durante los días 6\, 7 y 8 de noviembre celebraremos Solemne Triduo en honor a María Santísima de la Amargura en la Parroquia de la Purísima Concepción.
URL:https://hermandadnazarenohuelva.com/calendario/triduo-a-maria-santisima-de-la-amargura/
LOCATION:Parroquia de la Purisima Concepcion
CATEGORIES:Cultos
ATTACH;FMTTYPE=image/jpeg:https://hermandadnazarenohuelva.com/wp-content/uploads/2024/10/Evento-Amargura-1.jpg
END:VEVENT
BEGIN:VEVENT
DTSTART;VALUE=DATE:20251101
DTEND;VALUE=DATE:20251103
DTSTAMP:20260425T174830
CREATED:20241007T151330Z
LAST-MODIFIED:20251028T220541Z
UID:7729-1761955200-1762127999@hermandadnazarenohuelva.com
SUMMARY:Besamanos a María Santísima de la Amargura
DESCRIPTION:Durante los días 1 y 2 de noviembre la Sagrada Imagen de María Santísima de la Amargura estará expuesta en Devoto Besamanos en la Parroquia de la Purísima Concepción.
URL:https://hermandadnazarenohuelva.com/calendario/besamanos-a-maria-santisima-de-la-amargura/
LOCATION:Parroquia de la Purisima Concepcion
CATEGORIES:Cultos
ATTACH;FMTTYPE=image/jpeg:https://hermandadnazarenohuelva.com/wp-content/uploads/2024/10/Evento-Amargura-1.jpg
END:VEVENT
BEGIN:VEVENT
DTSTART;TZID=Europe/Madrid:20251031T190000
DTEND;TZID=Europe/Madrid:20251031T200000
DTSTAMP:20260425T174830
CREATED:20251028T220724Z
LAST-MODIFIED:20251028T220745Z
UID:9865-1761937200-1761940800@hermandadnazarenohuelva.com
SUMMARY:Misa de Acción de Gracias
DESCRIPTION:El día 31 de octubre celebraremos Santa Misa de Acción de Gracias por el LXXV aniversario de la bendición de la sagrada imagen de Nuestro Padre Jesús Nazareno en la Parroquia de la Purísima Concepción.
URL:https://hermandadnazarenohuelva.com/calendario/9865/
LOCATION:Parroquia de la Purisima Concepcion
CATEGORIES:Cultos
ATTACH;FMTTYPE=image/jpeg:https://hermandadnazarenohuelva.com/wp-content/uploads/2024/11/evento-nazareno-2.jpg
END:VEVENT
BEGIN:VEVENT
DTSTART;VALUE=DATE:20251031
DTEND;VALUE=DATE:20251101
DTSTAMP:20260425T174830
CREATED:20250218T120411Z
LAST-MODIFIED:20251028T220921Z
UID:9466-1761868800-1761955199@hermandadnazarenohuelva.com
SUMMARY:Ejercicio de las Cinco Llagas
DESCRIPTION:Como cada viernes del año celebraremos tras la misa de tarde el rezo de los Viernes del Nazareno con el Ejercicio de las Cinco Llagas
URL:https://hermandadnazarenohuelva.com/calendario/ejercicio-de-las-cinco-llagas-29/
LOCATION:Parroquia de la Purisima Concepcion
ATTACH;FMTTYPE=image/jpeg:https://hermandadnazarenohuelva.com/wp-content/uploads/2024/10/Evento-Nazareno.jpg
END:VEVENT
END:VCALENDAR