BEGIN:VCALENDAR
VERSION:2.0
PRODID:-//Hermandad del Nazareno | Huelva - ECPv6.15.20//NONSGML v1.0//EN
CALSCALE:GREGORIAN
METHOD:PUBLISH
X-WR-CALNAME:Hermandad del Nazareno | Huelva
X-ORIGINAL-URL:https://hermandadnazarenohuelva.com
X-WR-CALDESC:Eventos para Hermandad del Nazareno | Huelva
REFRESH-INTERVAL;VALUE=DURATION:PT1H
X-Robots-Tag:noindex
X-PUBLISHED-TTL:PT1H
BEGIN:VTIMEZONE
TZID:Europe/Madrid
BEGIN:DAYLIGHT
TZOFFSETFROM:+0100
TZOFFSETTO:+0200
TZNAME:CEST
DTSTART:20230326T010000
END:DAYLIGHT
BEGIN:STANDARD
TZOFFSETFROM:+0200
TZOFFSETTO:+0100
TZNAME:CET
DTSTART:20231029T010000
END:STANDARD
BEGIN:DAYLIGHT
TZOFFSETFROM:+0100
TZOFFSETTO:+0200
TZNAME:CEST
DTSTART:20240331T010000
END:DAYLIGHT
BEGIN:STANDARD
TZOFFSETFROM:+0200
TZOFFSETTO:+0100
TZNAME:CET
DTSTART:20241027T010000
END:STANDARD
BEGIN:DAYLIGHT
TZOFFSETFROM:+0100
TZOFFSETTO:+0200
TZNAME:CEST
DTSTART:20250330T010000
END:DAYLIGHT
BEGIN:STANDARD
TZOFFSETFROM:+0200
TZOFFSETTO:+0100
TZNAME:CET
DTSTART:20251026T010000
END:STANDARD
BEGIN:DAYLIGHT
TZOFFSETFROM:+0100
TZOFFSETTO:+0200
TZNAME:CEST
DTSTART:20260329T010000
END:DAYLIGHT
BEGIN:STANDARD
TZOFFSETFROM:+0200
TZOFFSETTO:+0100
TZNAME:CET
DTSTART:20261025T010000
END:STANDARD
END:VTIMEZONE
BEGIN:VEVENT
DTSTART;VALUE=DATE:20250325
DTEND;VALUE=DATE:20250330
DTSTAMP:20260426T055233
CREATED:20241113T153456Z
LAST-MODIFIED:20250122T230608Z
UID:8872-1742860800-1743292799@hermandadnazarenohuelva.com
SUMMARY:Quinario a Nuestro Padre Jesús Nazareno
DESCRIPTION:Durante los días 25\, 26\, 27\, 28 y 29 de marzo celebraremos Solemne Quinario en honor a Nuestro Padre Jesús Nazareno en la Parroquia de la Purísima Concepción.
URL:https://hermandadnazarenohuelva.com/calendario/triduo-a-nuestro-padre-jesus-nazareno/
LOCATION:Parroquia de la Purisima Concepcion
CATEGORIES:Cultos
ATTACH;FMTTYPE=image/jpeg:https://hermandadnazarenohuelva.com/wp-content/uploads/2024/11/evento-nazareno-2.jpg
END:VEVENT
BEGIN:VEVENT
DTSTART;VALUE=DATE:20250321
DTEND;VALUE=DATE:20250322
DTSTAMP:20260426T055233
CREATED:20241113T152910Z
LAST-MODIFIED:20241113T152910Z
UID:8862-1742515200-1742601599@hermandadnazarenohuelva.com
SUMMARY:Traslado de Nuestro Padre Jesús Nazareno al altar mayor
DESCRIPTION:El día 21 de marzo celebraremos el traslado de Nuestro Padre Jesús Nazareno al altar mayor de la Parroquia de la Purísima Concepción.
URL:https://hermandadnazarenohuelva.com/calendario/traslado-de-nuestro-padre-jesus-nazareno-al-altar-mayor/
LOCATION:Parroquia de la Purisima Concepcion
CATEGORIES:Cultos
ATTACH;FMTTYPE=image/jpeg:https://hermandadnazarenohuelva.com/wp-content/uploads/2024/11/evento-nazareno-2.jpg
END:VEVENT
BEGIN:VEVENT
DTSTART;VALUE=DATE:20250307
DTEND;VALUE=DATE:20250308
DTSTAMP:20260426T055233
CREATED:20241113T153114Z
LAST-MODIFIED:20241113T153114Z
UID:8867-1741305600-1741391999@hermandadnazarenohuelva.com
SUMMARY:Besapié a Nuestro Padre Jesús Nazareno
DESCRIPTION:Durante el día 7 de marzo la Sagrada Imagen de Nuestro Padre Jesús Nazareno estará expuesta en Devoto Besapié en la Parroquia de la Purísima Concepción.
URL:https://hermandadnazarenohuelva.com/calendario/besapie-a-nuestro-padre-jesus-nazareno/
LOCATION:Parroquia de la Purisima Concepcion
CATEGORIES:Cultos
ATTACH;FMTTYPE=image/jpeg:https://hermandadnazarenohuelva.com/wp-content/uploads/2024/11/evento-nazareno-2.jpg
END:VEVENT
BEGIN:VEVENT
DTSTART;VALUE=DATE:20250124
DTEND;VALUE=DATE:20250125
DTSTAMP:20260426T055233
CREATED:20241113T151916Z
LAST-MODIFIED:20241113T151916Z
UID:8854-1737676800-1737763199@hermandadnazarenohuelva.com
SUMMARY:Santa Misa al Beato Marcelo Spínola
DESCRIPTION:El día 24 de enero celebraremos Santa Misa en honor al Beato Marcelo Spínola en la Parroquia de la Purísima Concepción.
URL:https://hermandadnazarenohuelva.com/calendario/santa-misa-al-beato-marcelo-spinola/
LOCATION:Parroquia de la Purisima Concepcion
CATEGORIES:Cultos
ATTACH;FMTTYPE=image/jpeg:https://hermandadnazarenohuelva.com/wp-content/uploads/2024/10/Evento-Marcelo-Spinola.jpg
END:VEVENT
BEGIN:VEVENT
DTSTART;VALUE=DATE:20241227
DTEND;VALUE=DATE:20241228
DTSTAMP:20260426T055233
CREATED:20241007T171820Z
LAST-MODIFIED:20241007T171820Z
UID:7857-1735257600-1735343999@hermandadnazarenohuelva.com
SUMMARY:Santa Misa a San Juan Evangelista
DESCRIPTION:El día 27 de diciembre celebraremos Santa Misa en honor a San Juan Evangelista en la Parroquia de la Purísima Concepción.
URL:https://hermandadnazarenohuelva.com/calendario/santa-misa-a-san-juan-evangelista/
LOCATION:Parroquia de la Purisima Concepcion
CATEGORIES:Cultos
ATTACH;FMTTYPE=image/jpeg:https://hermandadnazarenohuelva.com/wp-content/uploads/2024/10/Evento-San-Juan-Evangelista.jpg
END:VEVENT
END:VCALENDAR